Workbook

Sheet Investment Estimator
B1: Investment Estimator
A4: NUMBER OF YEARS TO ACCUMULATE FUNDS : | C4: 10
A5: 60
A6: FUTURE VALUE ESTIMATOR
C7: Initial | D7: Revised
A9: LUMP SUM DEPOSIT: | D9: 100000
A11: MONTHLY CONTRIBUTION: | C11: 0
B13: ANNUAL CONTRIBUTION: | C13: 25455
A15: ESTIMATED RATE OF RETURN: | C15: 0.05 | D15: 0.06
A17: ESTIMATED FUTURE VALUE: | C17: =-FV(C15,$C$4,0,C9)+-FV(C15/12,$C$4*12,C11,0)+-FV(C15,$C$4,C13,0) -> 320170.25 | D17: =-FV(D15,$C$4,0,D9)+-FV(D15/12,$C$4*12,D11,0)+-FV(D15,$C$4,D13,0) -> 179084.77
A19: ESTIMATED INCREASE IN RESOURCES: | D19: =IF(D17 > 0, (D17-C17), 0) -> -141085.48
A21: PRESENT VALUE ESTIMATOR
A24: TOTAL FUTURE AMOUNT DESIRED: | C24: 250000
A26: ESTIMATED RATE OF RETURN: | C26: 0.06
A28: ESTIMATED MONTHLY CONTRIBUTION: | C28: =PPMT(C26/12, 1, $C$4*12, -C24, 0) -> 1525.5125
A29: - OR -
A30: ESTIMATED LUMP SUM DEPOSIT: | C30: =$C$24/POWER(1+$C$26, $C$4) -> 139598.69
A35: FUTURE VALUE MATRIX | D35: ESTIMATED RATE OF RETURN
A36: Results show the future value of a consistent contribution during the time until the funds are needed. | D36: 0 | E36: 0.01 | F36: 0.02 | G36: 0.03 | H36: 0.04 | I36: 0.05 | J36: 0.06 | K36: 0.07 | L36: 0.08
B37: MONTHLY CONTRIBUTION | C37: 25 | D37: =FV(D$36/12,$C$4* 12, -$C37, 0, 0) -> 3000 | E37: =FV(E$36/12,$C$4* 12, -$C37, 0, 0) -> 3153.7469 | F37: =FV(F$36/12,$C$4* 12, -$C37, 0, 0) -> 3317.9915 | G37: =FV(G$36/12,$C$4* 12, -$C37, 0, 0) -> 3493.5355 | H37: =FV(H$36/12,$C$4* 12, -$C37, 0, 0) -> 3681.2451 | I37: =FV(I$36/12,$C$4* 12, -$C37, 0, 0) -> 3882.057 | J37: =FV(J$36/12,$C$4* 12, -$C37, 0, 0) -> 4096.9837 | K37: =FV(K$36/12,$C$4* 12, -$C37, 0, 0) -> 4327.1202 | L37: =FV(L$36/12,$C$4* 12, -$C37, 0, 0) -> 4573.6509
C38: 50 | D38: =FV(D$36/12,$C$4* 12, -$C38, 0, 0) -> 6000 | E38: =FV(E$36/12,$C$4* 12, -$C38, 0, 0) -> 6307.4937 | F38: =FV(F$36/12,$C$4* 12, -$C38, 0, 0) -> 6635.983 | G38: =FV(G$36/12,$C$4* 12, -$C38, 0, 0) -> 6987.0709 | H38: =FV(H$36/12,$C$4* 12, -$C38, 0, 0) -> 7362.4902 | I38: =FV(I$36/12,$C$4* 12, -$C38, 0, 0) -> 7764.114 | J38: =FV(J$36/12,$C$4* 12, -$C38, 0, 0) -> 8193.9673 | K38: =FV(K$36/12,$C$4* 12, -$C38, 0, 0) -> 8654.2404 | L38: =FV(L$36/12,$C$4* 12, -$C38, 0, 0) -> 9147.3018
C39: 75 | D39: =FV(D$36/12,$C$4* 12, -$C39, 0, 0) -> 9000 | E39: =FV(E$36/12,$C$4* 12, -$C39, 0, 0) -> 9461.2406 | F39: =FV(F$36/12,$C$4* 12, -$C39, 0, 0) -> 9953.9745 | G39: =FV(G$36/12,$C$4* 12, -$C39, 0, 0) -> 10480.606 | H39: =FV(H$36/12,$C$4* 12, -$C39, 0, 0) -> 11043.735 | I39: =FV(I$36/12,$C$4* 12, -$C39, 0, 0) -> 11646.171 | J39: =FV(J$36/12,$C$4* 12, -$C39, 0, 0) -> 12290.951 | K39: =FV(K$36/12,$C$4* 12, -$C39, 0, 0) -> 12981.361 | L39: =FV(L$36/12,$C$4* 12, -$C39, 0, 0) -> 13720.953
C40: 100 | D40: =FV(D$36/12,$C$4* 12, -$C40, 0, 0) -> 12000 | E40: =FV(E$36/12,$C$4* 12, -$C40, 0, 0) -> 12614.987 | F40: =FV(F$36/12,$C$4* 12, -$C40, 0, 0) -> 13271.966 | G40: =FV(G$36/12,$C$4* 12, -$C40, 0, 0) -> 13974.142 | H40: =FV(H$36/12,$C$4* 12, -$C40, 0, 0) -> 14724.98 | I40: =FV(I$36/12,$C$4* 12, -$C40, 0, 0) -> 15528.228 | J40: =FV(J$36/12,$C$4* 12, -$C40, 0, 0) -> 16387.935 | K40: =FV(K$36/12,$C$4* 12, -$C40, 0, 0) -> 17308.481 | L40: =FV(L$36/12,$C$4* 12, -$C40, 0, 0) -> 18294.604
C41: 125 | D41: =FV(D$36/12,$C$4* 12, -$C41, 0, 0) -> 15000 | E41: =FV(E$36/12,$C$4* 12, -$C41, 0, 0) -> 15768.734 | F41: =FV(F$36/12,$C$4* 12, -$C41, 0, 0) -> 16589.958 | G41: =FV(G$36/12,$C$4* 12, -$C41, 0, 0) -> 17467.677 | H41: =FV(H$36/12,$C$4* 12, -$C41, 0, 0) -> 18406.226 | I41: =FV(I$36/12,$C$4* 12, -$C41, 0, 0) -> 19410.285 | J41: =FV(J$36/12,$C$4* 12, -$C41, 0, 0) -> 20484.918 | K41: =FV(K$36/12,$C$4* 12, -$C41, 0, 0) -> 21635.601 | L41: =FV(L$36/12,$C$4* 12, -$C41, 0, 0) -> 22868.254
C42: 150 | D42: =FV(D$36/12,$C$4* 12, -$C42, 0, 0) -> 18000 | E42: =FV(E$36/12,$C$4* 12, -$C42, 0, 0) -> 18922.481 | F42: =FV(F$36/12,$C$4* 12, -$C42, 0, 0) -> 19907.949 | G42: =FV(G$36/12,$C$4* 12, -$C42, 0, 0) -> 20961.213 | H42: =FV(H$36/12,$C$4* 12, -$C42, 0, 0) -> 22087.471 | I42: =FV(I$36/12,$C$4* 12, -$C42, 0, 0) -> 23292.342 | J42: =FV(J$36/12,$C$4* 12, -$C42, 0, 0) -> 24581.902 | K42: =FV(K$36/12,$C$4* 12, -$C42, 0, 0) -> 25962.721 | L42: =FV(L$36/12,$C$4* 12, -$C42, 0, 0) -> 27441.905
C43: 175 | D43: =FV(D$36/12,$C$4* 12, -$C43, 0, 0) -> 21000 | E43: =FV(E$36/12,$C$4* 12, -$C43, 0, 0) -> 22076.228 | F43: =FV(F$36/12,$C$4* 12, -$C43, 0, 0) -> 23225.941 | G43: =FV(G$36/12,$C$4* 12, -$C43, 0, 0) -> 24454.748 | H43: =FV(H$36/12,$C$4* 12, -$C43, 0, 0) -> 25768.716 | I43: =FV(I$36/12,$C$4* 12, -$C43, 0, 0) -> 27174.399 | J43: =FV(J$36/12,$C$4* 12, -$C43, 0, 0) -> 28678.886 | K43: =FV(K$36/12,$C$4* 12, -$C43, 0, 0) -> 30289.841 | L43: =FV(L$36/12,$C$4* 12, -$C43, 0, 0) -> 32015.556
C44: 200 | D44: =FV(D$36/12,$C$4* 12, -$C44, 0, 0) -> 24000 | E44: =FV(E$36/12,$C$4* 12, -$C44, 0, 0) -> 25229.975 | F44: =FV(F$36/12,$C$4* 12, -$C44, 0, 0) -> 26543.932 | G44: =FV(G$36/12,$C$4* 12, -$C44, 0, 0) -> 27948.284 | H44: =FV(H$36/12,$C$4* 12, -$C44, 0, 0) -> 29449.961 | I44: =FV(I$36/12,$C$4* 12, -$C44, 0, 0) -> 31056.456 | J44: =FV(J$36/12,$C$4* 12, -$C44, 0, 0) -> 32775.869 | K44: =FV(K$36/12,$C$4* 12, -$C44, 0, 0) -> 34616.961 | L44: =FV(L$36/12,$C$4* 12, -$C44, 0, 0) -> 36589.207
C45: 225 | D45: =FV(D$36/12,$C$4* 12, -$C45, 0, 0) -> 27000 | E45: =FV(E$36/12,$C$4* 12, -$C45, 0, 0) -> 28383.722 | F45: =FV(F$36/12,$C$4* 12, -$C45, 0, 0) -> 29861.924 | G45: =FV(G$36/12,$C$4* 12, -$C45, 0, 0) -> 31441.819 | H45: =FV(H$36/12,$C$4* 12, -$C45, 0, 0) -> 33131.206 | I45: =FV(I$36/12,$C$4* 12, -$C45, 0, 0) -> 34938.513 | J45: =FV(J$36/12,$C$4* 12, -$C45, 0, 0) -> 36872.853 | K45: =FV(K$36/12,$C$4* 12, -$C45, 0, 0) -> 38944.082 | L45: =FV(L$36/12,$C$4* 12, -$C45, 0, 0) -> 41162.858
C46: 250 | D46: =FV(D$36/12,$C$4* 12, -$C46, 0, 0) -> 30000 | E46: =FV(E$36/12,$C$4* 12, -$C46, 0, 0) -> 31537.469 | F46: =FV(F$36/12,$C$4* 12, -$C46, 0, 0) -> 33179.915 | G46: =FV(G$36/12,$C$4* 12, -$C46, 0, 0) -> 34935.355 | H46: =FV(H$36/12,$C$4* 12, -$C46, 0, 0) -> 36812.451 | I46: =FV(I$36/12,$C$4* 12, -$C46, 0, 0) -> 38820.57 | J46: =FV(J$36/12,$C$4* 12, -$C46, 0, 0) -> 40969.837 | K46: =FV(K$36/12,$C$4* 12, -$C46, 0, 0) -> 43271.202 | L46: =FV(L$36/12,$C$4* 12, -$C46, 0, 0) -> 45736.509
C47: 275 | D47: =FV(D$36/12,$C$4* 12, -$C47, 0, 0) -> 33000 | E47: =FV(E$36/12,$C$4* 12, -$C47, 0, 0) -> 34691.216 | F47: =FV(F$36/12,$C$4* 12, -$C47, 0, 0) -> 36497.907 | G47: =FV(G$36/12,$C$4* 12, -$C47, 0, 0) -> 38428.89 | H47: =FV(H$36/12,$C$4* 12, -$C47, 0, 0) -> 40493.696 | I47: =FV(I$36/12,$C$4* 12, -$C47, 0, 0) -> 42702.627 | J47: =FV(J$36/12,$C$4* 12, -$C47, 0, 0) -> 45066.82 | K47: =FV(K$36/12,$C$4* 12, -$C47, 0, 0) -> 47598.322 | L47: =FV(L$36/12,$C$4* 12, -$C47, 0, 0) -> 50310.16
C48: 300 | D48: =FV(D$36/12,$C$4* 12, -$C48, 0, 0) -> 36000 | E48: =FV(E$36/12,$C$4* 12, -$C48, 0, 0) -> 37844.962 | F48: =FV(F$36/12,$C$4* 12, -$C48, 0, 0) -> 39815.898 | G48: =FV(G$36/12,$C$4* 12, -$C48, 0, 0) -> 41922.426 | H48: =FV(H$36/12,$C$4* 12, -$C48, 0, 0) -> 44174.941 | I48: =FV(I$36/12,$C$4* 12, -$C48, 0, 0) -> 46584.684 | J48: =FV(J$36/12,$C$4* 12, -$C48, 0, 0) -> 49163.804 | K48: =FV(K$36/12,$C$4* 12, -$C48, 0, 0) -> 51925.442 | L48: =FV(L$36/12,$C$4* 12, -$C48, 0, 0) -> 54883.811
C49: 325 | D49: =FV(D$36/12,$C$4* 12, -$C49, 0, 0) -> 39000 | E49: =FV(E$36/12,$C$4* 12, -$C49, 0, 0) -> 40998.709 | F49: =FV(F$36/12,$C$4* 12, -$C49, 0, 0) -> 43133.89 | G49: =FV(G$36/12,$C$4* 12, -$C49, 0, 0) -> 45415.961 | H49: =FV(H$36/12,$C$4* 12, -$C49, 0, 0) -> 47856.187 | I49: =FV(I$36/12,$C$4* 12, -$C49, 0, 0) -> 50466.741 | J49: =FV(J$36/12,$C$4* 12, -$C49, 0, 0) -> 53260.788 | K49: =FV(K$36/12,$C$4* 12, -$C49, 0, 0) -> 56252.562 | L49: =FV(L$36/12,$C$4* 12, -$C49, 0, 0) -> 59457.461
... C55: 700 | D55: =FV(D$36/12,$C$4* 12, -$C55, 0, 0) -> 84000 | E55: =FV(E$36/12,$C$4* 12, -$C55, 0, 0) -> 88304.912 | F55: =FV(F$36/12,$C$4* 12, -$C55, 0, 0) -> 92903.762 | G55: =FV(G$36/12,$C$4* 12, -$C55, 0, 0) -> 97818.993 | H55: =FV(H$36/12,$C$4* 12, -$C55, 0, 0) -> 103074.86 | I55: =FV(I$36/12,$C$4* 12, -$C55, 0, 0) -> 108697.6 | J55: =FV(J$36/12,$C$4* 12, -$C55, 0, 0) -> 114715.54 | K55: =FV(K$36/12,$C$4* 12, -$C55, 0, 0) -> 121159.37 | L55: =FV(L$36/12,$C$4* 12, -$C55, 0, 0) -> 128062.22
A58: PRESENT VALUE MATRIX | D58: ESTIMATED RATE OF RETURN
A59: Results show the monthly contribution required to reach a specific amount by the time the funds are needed. | D59: 0 | E59: 0.01 | F59: 0.02 | G59: 0.03 | H59: 0.04 | I59: 0.05 | J59: 0.06 | K59: 0.07 | L59: 0.08
B60: TOTAL FUTURE AMOUNT DESIRED | C60: 10000 | D60: =PPMT(D$59/12, 1, $C$4*12, -$C60, 0) -> 83.333333 | E60: =PPMT(E$59/12, 1, $C$4*12, -$C60, 0) -> 79.270788 | F60: =PPMT(F$59/12, 1, $C$4*12, -$C60, 0) -> 75.346787 | G60: =PPMT(G$59/12, 1, $C$4*12, -$C60, 0) -> 71.560745 | H60: =PPMT(H$59/12, 1, $C$4*12, -$C60, 0) -> 67.911805 | I60: =PPMT(I$59/12, 1, $C$4*12, -$C60, 0) -> 64.398849 | J60: =PPMT(J$59/12, 1, $C$4*12, -$C60, 0) -> 61.020502 | K60: =PPMT(K$59/12, 1, $C$4*12, -$C60, 0) -> 57.775146 | L60: =PPMT(L$59/12, 1, $C$4*12, -$C60, 0) -> 54.660928
C61: 20000 | D61: =PPMT(D$59/12, 1, $C$4*12, -$C61, 0) -> 166.66667 | E61: =PPMT(E$59/12, 1, $C$4*12, -$C61, 0) -> 158.54158 | F61: =PPMT(F$59/12, 1, $C$4*12, -$C61, 0) -> 150.69357 | G61: =PPMT(G$59/12, 1, $C$4*12, -$C61, 0) -> 143.12149 | H61: =PPMT(H$59/12, 1, $C$4*12, -$C61, 0) -> 135.82361 | I61: =PPMT(I$59/12, 1, $C$4*12, -$C61, 0) -> 128.7977 | J61: =PPMT(J$59/12, 1, $C$4*12, -$C61, 0) -> 122.041 | K61: =PPMT(K$59/12, 1, $C$4*12, -$C61, 0) -> 115.55029 | L61: =PPMT(L$59/12, 1, $C$4*12, -$C61, 0) -> 109.32186
C62: 30000 | D62: =PPMT(D$59/12, 1, $C$4*12, -$C62, 0) -> 250 | E62: =PPMT(E$59/12, 1, $C$4*12, -$C62, 0) -> 237.81236 | F62: =PPMT(F$59/12, 1, $C$4*12, -$C62, 0) -> 226.04036 | G62: =PPMT(G$59/12, 1, $C$4*12, -$C62, 0) -> 214.68223 | H62: =PPMT(H$59/12, 1, $C$4*12, -$C62, 0) -> 203.73541 | I62: =PPMT(I$59/12, 1, $C$4*12, -$C62, 0) -> 193.19655 | J62: =PPMT(J$59/12, 1, $C$4*12, -$C62, 0) -> 183.06151 | K62: =PPMT(K$59/12, 1, $C$4*12, -$C62, 0) -> 173.32544 | L62: =PPMT(L$59/12, 1, $C$4*12, -$C62, 0) -> 163.98278
C63: 40000 | D63: =PPMT(D$59/12, 1, $C$4*12, -$C63, 0) -> 333.33333 | E63: =PPMT(E$59/12, 1, $C$4*12, -$C63, 0) -> 317.08315 | F63: =PPMT(F$59/12, 1, $C$4*12, -$C63, 0) -> 301.38715 | G63: =PPMT(G$59/12, 1, $C$4*12, -$C63, 0) -> 286.24298 | H63: =PPMT(H$59/12, 1, $C$4*12, -$C63, 0) -> 271.64722 | I63: =PPMT(I$59/12, 1, $C$4*12, -$C63, 0) -> 257.59539 | J63: =PPMT(J$59/12, 1, $C$4*12, -$C63, 0) -> 244.08201 | K63: =PPMT(K$59/12, 1, $C$4*12, -$C63, 0) -> 231.10058 | L63: =PPMT(L$59/12, 1, $C$4*12, -$C63, 0) -> 218.64371
C64: 50000 | D64: =PPMT(D$59/12, 1, $C$4*12, -$C64, 0) -> 416.66667 | E64: =PPMT(E$59/12, 1, $C$4*12, -$C64, 0) -> 396.35394 | F64: =PPMT(F$59/12, 1, $C$4*12, -$C64, 0) -> 376.73394 | G64: =PPMT(G$59/12, 1, $C$4*12, -$C64, 0) -> 357.80372 | H64: =PPMT(H$59/12, 1, $C$4*12, -$C64, 0) -> 339.55902 | I64: =PPMT(I$59/12, 1, $C$4*12, -$C64, 0) -> 321.99424 | J64: =PPMT(J$59/12, 1, $C$4*12, -$C64, 0) -> 305.10251 | K64: =PPMT(K$59/12, 1, $C$4*12, -$C64, 0) -> 288.87573 | L64: =PPMT(L$59/12, 1, $C$4*12, -$C64, 0) -> 273.30464
...

Sheet Investment Tax Profile
A1: Investment Tax Profile
B3: YES | C3: NO
A5: Are the contributions tax-deductible? | C5: x
A6: Are the accumulations tax-deferred? | B6: x
A7: Are the distributions tax-free? | B7: x
A9: What is your federal + state tax rate? | B9: 0.25
A11: What is your capital gains tax rate? | B11: 0.15
A13: Number of years to distribute accumulated funds? | B13: 25
A17: Investment Tax Profile(s) | F17: Total Value of Distributed Funds
A19: Tax-Deductible Contributions / Tax-Deferred Accumulations / Tax-Free Distributions | F19: =IF(AND($B$5="x", $B$6="x", $B$7="x"), "* PROFILE FOCUS *", "" )
A21: TOTAL FUTURE VALUE OF INVESTMENT CONTRIBUTIONS: | E21: =(1+$B$9)*'Investment Estimator'!$D$17 -> 223855.96 | F21: =$E$23*$B$13 -> 437787.93
A23: AMOUNT OF YEARLY DISTRIBUTION: | E23: =PMT('Investment Estimator'!$D$15,'Investment Tax Profile'!$B$13,'Investment Tax Profile'!$E$21)*-'Investment Tax Profile'!$B$13/$B$13 -> 17511.517 | F23: Health Savings Account
A25: Tax-Deductible Contributions / Tax-Deferred Accumulations / Taxable Distributions | F25: =IF(AND($B$5="x", $B$6="x", $C$7="x"), "* PROFILE FOCUS *", "" )
A27: TOTAL FUTURE VALUE OF INVESTMENT CONTRIBUTIONS: | E27: =(1+$B$9)*'Investment Estimator'!$D$17 -> 223855.96 | F27: =$E$29*$B$13 -> 328340.95
A29: AMOUNT OF YEARLY DISTRIBUTION: | E29: =(((PMT('Investment Estimator'!$D$15,'Investment Tax Profile'!$B$13,'Investment Tax Profile'!$E$21)*-'Investment Tax Profile'!$B$13/$B$13)-((PMT('Investment Estimator'!$D$15,'Investment Tax Profile'!$B$13,'Investment Tax Profile'!$E$21)*-'Investment Tax Profile'!$B$13/$B$13)*$B$9))*$B$13)/$B$13 -> 13133.638 | F29: 401(k), Traditional IRA
A31: Non-deductible Contributions / Tax-Deferred Accumulations / Taxable Distributions | F31: =IF(AND($C$5="x", $B$6="x", $C$7="x"), "* PROFILE FOCUS *", "" )
A33: TOTAL FUTURE VALUE OF INVESTMENT CONTRIBUTIONS: | E33: ='Investment Estimator'!$D$17 -> 179084.77 | F33: =$E$35*$B$13 -> 262672.76
A35: AMOUNT OF YEARLY DISTRIBUTION: | E35: =(((PMT('Investment Estimator'!$D$15,'Investment Tax Profile'!$B$13,'Investment Tax Profile'!$E$33)*-'Investment Tax Profile'!$B$13/$B$13)-((PMT('Investment Estimator'!$D$15,'Investment Tax Profile'!$B$13,'Investment Tax Profile'!$E$33)*-'Investment Tax Profile'!$B$13/$B$13)*$B$9))*$B$13)/$B$13 -> 10506.91 | F35: Annuity, EE Bond
A37: Non-deductible Contributions / Taxable Accumulations / Taxable Distributions | F37: =IF(AND($C$5="x", $C$6="x", $C$7="x"), "* PROFILE FOCUS *", "" )
A39: TOTAL FUTURE VALUE OF INVESTMENT CONTRIBUTIONS: | E39: ='Investment Estimator'!$D$17-(('Investment Estimator'!$D$17-('Investment Estimator'!$D$9+('Investment Estimator'!$D$11*12)*'Investment Estimator'!$C$4))*0.85)*$B$9-(('Investment Estimator'!$D$17-('Investment Estimator'!$D$9+('Investment Estimator'!$D$11*12)*'Investment Estimator'!$C$4))*0.15)*$B$11 -> 160499.85 | F39: =$E$41*$B$13 -> 235413.31
A41: AMOUNT OF YEARLY DISTRIBUTION: | E41: =(((PMT('Investment Estimator'!$D$15,'Investment Tax Profile'!$B$13,'Investment Tax Profile'!$E$39)*-'Investment Tax Profile'!$B$13/$B$13)-((PMT('Investment Estimator'!$D$15,'Investment Tax Profile'!$B$13,'Investment Tax Profile'!$E$39)*-'Investment Tax Profile'!$B$13/$B$13)*$B$9))*$B$13)/$B$13 -> 9416.5323 | F41: Mutual Fund, CD, Treasury
A43: Non-deductible Contributions / Tax-Deferred Accumulations / Tax-Free Distributions | F43: =IF(AND($C$5="x", $B$6="x", $B$7="x"), "* PROFILE FOCUS *", "" ) -> * PROFILE FOCUS *
A45: TOTAL FUTURE VALUE OF INVESTMENT CONTRIBUTIONS: | E45: ='Investment Estimator'!$D$17 -> 179084.77 | F45: =$E$47*$B$13 -> 350230.35
A47: AMOUNT OF YEARLY DISTRIBUTION: | E47: =PMT('Investment Estimator'!$D$15,'Investment Tax Profile'!$B$13,'Investment Tax Profile'!$E$45)*-'Investment Tax Profile'!$B$13/$B$13 -> 14009.214 | F47: Muni, Roth IRA, 529, CESA
A49: Non-deductible Contributions / Taxable Accumulations / Tax-Free Distributions | F49: =IF(AND($C$5="x", $C$6="x", $B$7="x"), "* PROFILE FOCUS *", "" )
A51: TOTAL FUTURE VALUE OF INVESTMENT CONTRIBUTIONS: | E51: ='Investment Estimator'!$D$17-(('Investment Estimator'!$D$17-('Investment Estimator'!$D$9+('Investment Estimator'!$D$11*12)*'Investment Estimator'!$C$4))*0.85)*$B$9-(('Investment Estimator'!$D$17-('Investment Estimator'!$D$9+('Investment Estimator'!$D$11*12)*'Investment Estimator'!$C$4))*0.15)*$B$11 -> 160499.85 | F51: =$E$53*$B$13 -> 313884.41
A53: AMOUNT OF YEARLY DISTRIBUTION: | E53: =PMT('Investment Estimator'!$D$15,'Investment Tax Profile'!$B$13,'Investment Tax Profile'!$E$51)*-'Investment Tax Profile'!$B$13/$B$13 -> 12555.376

Sheet Insurance Estimator
A1: H.E.P.P.Y. Insurance Estimator
A3: CURRENT DEBT: | C3: 200000
A5: ANNUAL INCOME: | C5: 90000
A7: ANNUAL EXPENSES: | C7: 72000
A9: ESTIMATED INSURANCE NEED: | C9: =C3+(C5) + (C7) -> 362000
