Workbook
Name chart_balance: OFFSET([1]MortgageCalculator!$I$28,2,0,payments,1)
Name chart_balance: OFFSET([1]MortgageCalculator!$I$28,2,0,payments,1)
Name chart_balance: OFFSET([1]MortgageCalculator!$I$28,2,0,payments,1)
Name chart_balance_noextra: OFFSET([1]NoExtra!$G$2,2,0,CFM!nper,1)
Name chart_balance_noextra: OFFSET([1]NoExtra!$G$2,2,0,MONTHLYANALYSISWORKSHEET!nper,1)
Name chart_balance_noextra: OFFSET([1]NoExtra!$G$2,2,0,nper,1)
Name chart_date: OFFSET([1]MortgageCalculator!$B$28,2,0,CFM!nper,1)
Name chart_date: OFFSET([1]MortgageCalculator!$B$28,2,0,MONTHLYANALYSISWORKSHEET!nper,1)
Name chart_date: OFFSET([1]MortgageCalculator!$B$28,2,0,nper,1)
Name chart_date_noextra: OFFSET([1]NoExtra!$B$2,2,0,CFM!nper,1)
Name chart_date_noextra: OFFSET([1]NoExtra!$B$2,2,0,MONTHLYANALYSISWORKSHEET!nper,1)
Name chart_date_noextra: OFFSET([1]NoExtra!$B$2,2,0,nper,1)
Name chart_nper: ROW(OFFSET([1]MortgageCalculator!#REF!,0,0,CFM!nper,1))
Name chart_nper: ROW(OFFSET([1]MortgageCalculator!#REF!,0,0,MONTHLYANALYSISWORKSHEET!nper,1))
Name chart_nper: ROW(OFFSET([1]MortgageCalculator!#REF!,0,0,nper,1))
Name chart_ratehist: OFFSET([1]MortgageCalculator!$C$28,2,0,payments,1)
Name chart_ratehist: OFFSET([1]MortgageCalculator!$C$28,2,0,payments,1)
Name chart_ratehist: OFFSET([1]MortgageCalculator!$C$28,2,0,payments,1)
Name chart_taxreturned: OFFSET([1]MortgageCalculator!#REF!,2,0,payments,1)
Name chart_taxreturned: OFFSET([1]MortgageCalculator!#REF!,2,0,payments,1)
Name chart_taxreturned: OFFSET([1]MortgageCalculator!#REF!,2,0,payments,1)
Name compound_period: INDEX({2,12},MATCH([1]MortgageCalculator!$D$9,CFM!compound_periods,0))
Name compound_period: INDEX({2,12},MATCH([1]MortgageCalculator!$D$9,MONTHLYANALYSISWORKSHEET!compound_periods,0))
Name compound_period: INDEX({2,12},MATCH([1]MortgageCalculator!$D$9,compound_periods,0))
Name compound_periods: {"Semi-Annually";"Monthly"}
Name compound_periods: {"Semi-Annually";"Monthly"}
Name compound_periods: {"Semi-Annually";"Monthly"}
Name CP: INDEX({2,12},MATCH([1]MortgageCalculator!$D$9,CFM!compound_periods,0))
Name CP: INDEX({2,12},MATCH([1]MortgageCalculator!$D$9,MONTHLYANALYSISWORKSHEET!compound_periods,0))
Name CP: INDEX({2,12},MATCH([1]MortgageCalculator!$D$9,compound_periods,0))
Name fpdate: [2]MortgageCalculator!$D$6
Name Money_Merge_Database: #REF!
Name nper: term*12
Name nper: term*12
Name nper: term*12
Name payments: MAX([1]MortgageCalculator!$A$30:$A$509)
Name Payroll_Period: #REF!
Name rate: [1]MortgageCalculator!#REF!
Name term: [1]MortgageCalculator!$D$7
Name variable: IF([1]MortgageCalculator!$L$5="Variable Rate",TRUE,FALSE)
Name Wage: #REF!

Sheet CFM
C2: Cash Flow Maximizer Calculator | CE2: Wealth Builder Worksheet
B5: Loan Information | G5: Loan Information Calculator | CD5: Mortgage Information | CH5: Mortgage Information Calculator
C6: Loan Amount | E6: 500000 | G6: Current Principal Balance | I6: 1 | CE6: Loan Amount | CG6: =CFM!E6 -> 500000 | CH6: Current Principal Balance | CJ6: 192250
B7: Annual Interest Rate | E7: 0.045 | G7: Annual Interest Rate | I7: 0.01 | CD7: Annual Interest Rate | CG7: =CFM!E7 -> 0.045 | CH7: Annual Interest Rate | CJ7: 0.07
B8: Number of Monthly Payments | E8: 360 | G8: Monthly Payment Amount | I8: 1 | CD8: Number of Monthly Payments | CG8: =CFM!E8 -> 360 | CH8: Monthly Payment Amount | CJ8: 1663.26
B9: Monthly Payment Amount | E9: =(-PMT(E7/12,E8,E6,0)) -> 2533.4265 | G9: Number of Payments Remaining | I9: =NPER(I7/12,I8,-I6,0) -> 1.0008337 | CD9: Monthly Payment Amount | CG9: =(-PMT(CG7/12,CG8,CG6,0)) -> 2533.4265 | CH9: Number of Payments Remaining | CJ9: =NPER(CJ7/12,CJ8,-CJ6,0) -> 192.84053
B11: Extra Cash Flow | G11: Investment Summary | CD11: Extra Payments | CH11: Investment Summary
B12: Extra Monthly Cash Flow | E12: 0 | G12: Current Age | I12: 40 | CD12: Extra Monthly Payments | CG12: 0 | CH12: Current Age
B13: Extra Annual Cash Flow Contribution | E13: 0 | G13: Retirement Age | I13: 65 | CD13: Extra Annual Payments | CG13: 0 | CH13: Retirement Age
B14: Month of Annual Cash Flow Contribution | E14: 1 | G14: Investment per Year | I14: 0 | CD14: Month of Annual Payment | CG14: 1 | CH14: Investment per Year
B15: Total Extra Cash Flow | E15: =SUM(E37:E411)+SUM(G37:G411) -> 0 | G15: Rate of Return | I15: 0.05 | CD15: Total Extra Payments | CH15: Rate of Return
G16: Years Until Paid in Full | I16: =E20 -> 30 | CH16: Years Until Paid in Full
B17: Loan Summary | G17: Value of Investment @ Paid in Full | I17: =IF(I18=0,0,-FV(I15,I16,I14,0)) -> 0 | CD17: Mortgage Summary | CH17: Value of Investment @ Paid in Full
B18: Total of All Payments | E18: =SUM(C37:C411)+SUM(H37:H411) -> 912033.56 | G18: Number of Years Until Retirement | I18: =IF(I16>I13-I12,0,I13-(I12+I16)) -> 0 | CD18: Total of All Payments | CG18: =SUM(CF29:CF405) -> 912033.56 | CH18: Number of Years Until Retirement
B19: Total Interest Paid | E19: =SUM(C37:C411) -> 412033.56 | G19: Extra Payment per Year | I19: =(E12*12)+E13+I14 -> 0 | CD19: Total Interest Paid | CG19: =SUM(CE29:CE405) -> 412033.56 | CH19: Extra Payment per Year
B20: Years Until Paid Off | E20: =ROUND(MAX(A37:A411)/12,2) -> 30 | G20: Monthly Loan Payment | I20: =IF(I18=0,0,E9) -> 0 | CD20: Years Until Paid Off | CH20: Monthly Mortgage Payment
B21: Interest Savings | E21: =IF((CFM!CG19-E19)<0,0,(CFM!CG19-E19)) -> 0 | G21: Balance at Retirement | I21: =-FV(I15,I18,0,I17)+-FV(I15,I18,I19-(E12*12),0)+-FV(I15/12,I18*12,I20,0)+-FV(I15/12,I18*12,E12,0) -> 0 | J21: =SUM(J22:J25) -> 0 | CD21: Interest Savings | CH21: Balance at Retirement
J22: =-FV(I15/12,I18*12,E12,0) -> 0
J23: =-FV(I15,I18,0,I17) -> 0
J24: =-FV(I15,I18,I19-E12*12,0) -> 0 | CC24: Payment Schedule
J25: =-FV(I15/12,I18*12,I20,0) -> 0 | CC25: No. | CD25: Interest | CE25: Interest | CF25: Payment | CG25: Extra | CH25: Additional | CI25: Amount Applied
CD26: Rate | CE26: Paid | CF26: Amount | CG26: Payments | CH26: Payments | CI26: To Principal | CJ26: Balance
CJ28: =CG6 -> 500000
CC29: 1 | CD29: =IF(CJ28<1,"",$CG$7) -> 0.045 | CE29: =IF(CJ28<1,"",(CJ28*(CD29*30)/360)) -> 1875 | CF29: =IF(CJ28<1,"",$CG$9) -> 2533.4265 | CG29: =IF(CJ28<1,"",$CG$12) -> 0 | CH29: =IF(CJ28<1,0,IF($CG$14=1,$CG$13,0)) -> 0 | CI29: =SUM(CF29+CG29+CH29)-CE29 -> 658.42655 | CJ29: =IF(CJ28-CI29<1,0,CJ28-CI29) -> 499341.57
CC30: =SUM(CC29+1) -> 2 | CD30: =IF(CJ29<1,"",$CG$7) -> 0.045 | CE30: =IF(CJ29<1,"",(CJ29*(CD30*30)/360)) -> 1872.5309 | CF30: =IF(CJ29<1,"",$CG$9) -> 2533.4265 | CG30: =IF(CJ29<1,"",$CG$12) -> 0 | CH30: =IF(CJ29<1,0,IF($CG$14=2,$CG$13,0)) -> 0 | CI30: =IF(CJ29<1,0,(CF30+CG30+CH30)-CE30) -> 660.89565 | CJ30: =IF(CJ29-CI30<1,0,CJ29-CI30) -> 498680.68
A31: Payment Schedule | CC31: =SUM(CC30+1) -> 3 | CD31: =IF(CJ30<1,"",$CG$7) -> 0.045 | CE31: =IF(CJ30<1,"",(CJ30*(CD31*30)/360)) -> 1870.0525 | CF31: =IF(CJ30<1,"",$CG$9) -> 2533.4265 | CG31: =IF(CJ30<1,"",$CG$12) -> 0 | CH31: =IF(CJ30<1,0,IF($CG$14=3,$CG$13,0)) -> 0 | CI31: =IF(CJ30<1,0,(CF31+CG31+CH31)-CE31) -> 663.37401 | CJ31: =IF(CJ30-CI31<1,0,CJ30-CI31) -> 498017.3
S32: Cash Flow | U32: Conventional
I33: Cash Flow | O33: Bi-Weekly | Q33: Conventional | S33: Maximizer | U33: Mortgage | W33: LOC
E34: Extra | G34: Extra | I34: Maximizer | O34: Mortgage | Q34: Mortgage | S34: Cumulative | U34: Cumulative | W34: COST | CC34: =SUM(CC31+1) -> 4 | CD34: =IF(CJ31<1,"",$CG$7) -> 0.045 | CE34: =IF(CJ31<1,"",(CJ31*(CD34*30)/360)) -> 1867.5649 | CF34: =IF(CJ31<1,"",$CG$9) -> 2533.4265 | CG34: =IF(CJ31<1,"",$CG$12) -> 0 | CH34: =IF(CJ31<1,0,IF($CG$14=4,$CG$13,0)) -> 0 | CI34: =IF(CJ31<1,0,(CF34+CG34+CH34)-CE34) -> 665.86166 | CJ34: =IF(CJ31-CI34<1,0,CJ31-CI34) -> 497351.44
A35: No. | B35: Interest | C35: Interest | D35: Payment | E35: Monthly | G35: Annual | H35: Amount Applied | I35: Balance | O35: Balance | Q35: Balance | S35: Interest Paid | U35: Interest Paid | W35: @ | CC35: =SUM(CC34+1) -> 5 | CD35: =IF(CJ34<1,"",$CG$7) -> 0.045 | CE35: =IF(CJ34<1,"",(CJ34*(CD35*30)/360)) -> 1865.0679 | CF35: =IF(CJ34<1,"",$CG$9) -> 2533.4265 | CG35: =IF(CJ34<1,"",$CG$12) -> 0 | CH35: =IF(CJ34<1,0,IF($CG$14=5,$CG$13,0)) -> 0 | CI35: =IF(CJ34<1,0,(CF35+CG35+CH35)-CE35) -> 668.35864 | CJ35: =IF(CJ34-CI35<1,0,CJ34-CI35) -> 496683.08 | CL35: =$E$7 -> 0.045
B36: Rate | C36: Paid | D36: Amount | E36: Payments | G36: Payments | H36: To Principal | I36: =E6 -> 500000 | O36: =E6 -> 500000 | Q36: =E6 -> 500000 | S36: =E6 -> 500000 | U36: =E6 -> 500000 | W36: =MONTHLYANALYSISWORKSHEET!P8 -> 6.5 | CC36: =SUM(CC35+1) -> 6 | CD36: =IF(CJ35<1,"",$CG$7) -> 0.045 | CE36: =IF(CJ35<1,"",(CJ35*(CD36*30)/360)) -> 1862.5616 | CF36: =IF(CJ35<1,"",$CG$9) -> 2533.4265 | CG36: =IF(CJ35<1,"",$CG$12) -> 0 | CH36: =IF(CJ35<1,0,IF($CG$14=6,$CG$13,0)) -> 0 | CI36: =IF(CJ35<1,0,(CF36+CG36+CH36)-CE36) -> 670.86499 | CJ36: =IF(CJ35-CI36<1,0,CJ35-CI36) -> 496012.22 | CO36: =E6 -> 500000
A37: =IF(E6<1,"",1) -> 1 | B37: =IF(E6<1,"",$E$7) -> 0.045 | C37: =IF(E6<1,"",(E6*(B37*30)/360)) -> 1875 | D37: =IF(E6<1,"",$E$9) -> 2533.4265 | E37: =IF(E6<1,"",$E$12) -> 0 | G37: =IF(E6>1, IF($E$14=1,$E$13,0), "") -> 0 | H37: =IF(E6<1,0,IF((D37+E37+G37)-C37>=(E6),(E6),(D37+E37+G37)-C37)) -> 658.42655 | I37: =IF(E6-H37<1,0,E6-H37) -> 499341.57 | O37: =O36-(O36-O48)/12 -> 499111.91 | Q37: =CJ29 -> 499341.57 | S37: =C37 -> 1875 | U37: =CE29 -> 1875 | W37: =MONTHLYANALYSISWORKSHEET!P9 -> 59.583333 | CC37: =SUM(CC36+1) -> 7 | CD37: =IF(CJ36<1,"",$CG$7) -> 0.045 | CE37: =IF(CJ36<1,"",(CJ36*(CD37*30)/360)) -> 1860.0458 | CF37: =IF(CJ36<1,"",$CG$9) -> 2533.4265 | CG37: =IF(CJ36<1,"",$CG$12) -> 0 | CH37: =IF(CJ36<1,0,IF($CG$14=7,$CG$13,0)) -> 0 | CI37: =IF(CJ36<1,0,(CF37+CG37+CH37)-CE37) -> 673.38073 | CJ37: =IF(CJ36-CI37<1,0,CJ36-CI37) -> 495338.84 | CL37: =IF(E6<1,"",($E$6*(B37*13.85)/360)) -> 865.625 | CM37: =$D$37/2 -> 1266.7133 | CN37: =CM37-CL37 -> 401.08827 | CO37: =IF(CO36-CN37<0,0,CO36-CN37) -> 499598.91 | CP37: 1
A38: =IF(I37<1,"",A37+1) -> 2 | B38: =IF(I37<1,"",$E$7) -> 0.045 | C38: =IF(I37<1,0,(I37*(B38*30)/360)) -> 1872.5309 | D38: =IF(I37 > 1, IF(I37-D37<1,(I37+C38),$E$9), 0) -> 2533.4265 | E38: =IF(I37<1,"",$E$12) -> 0 | G38: =IF(I37<1,0,IF($E$14=2,$E$13,0)) -> 0 | H38: =IF(I37<1,0,IF((D38+E38+G38)-C38>=(I37),(I37),(D38+E38+G38)-C38)) -> 660.89565 | I38: =IF(I37-H38<1,0,I37-H38) -> 498680.68 | O38: =O37-($O$36-$O$48)/12 -> 498223.81 | Q38: =CJ30 -> 498680.68 | S38: =$C$37+C38 -> 3747.5309 | U38: =SUM($CE29:CE30) -> 3747.5309 | W38: =MONTHLYANALYSISWORKSHEET!P10 -> 113.75 | CC38: =SUM(CC37+1) -> 8 | CD38: =IF(CJ37<1,"",$CG$7) -> 0.045 | CE38: =IF(CJ37<1,"",(CJ37*(CD38*30)/360)) -> 1857.5206 | CF38: =IF(CJ37<1,"",$CG$9) -> 2533.4265 | CG38: =IF(CJ37<1,"",$CG$12) -> 0 | CH38: =IF(CJ37<1,0,IF($CG$14=8,$CG$13,0)) -> 0 | CI38: =IF(CJ37<1,0,(CF38+CG38+CH38)-CE38) -> 675.90591 | CJ38: =IF(CJ37-CI38<1,0,CJ37-CI38) -> 494662.93 | CL38: =(CO37*($CL$35*13.85))/360 -> 864.93062 | CM38: =$D$37/2 -> 1266.7133 | CN38: =CM38-CL38 -> 401.78266 | CO38: =IF(CO37-CN38<0,0,CO37-CN38) -> 499197.13 | CP38: 2
A39: =IF(I38<1,"",A38+1) -> 3 | B39: =IF(I38<1,"",$E$7) -> 0.045 | C39: =IF(I38<1,0,(I38*(B39*30)/360)) -> 1870.0525 | D39: =IF(I38 > 1, IF(I38-D38<1,(I38+C39),$E$9), 0) -> 2533.4265 | E39: =IF(I38<1,"",$E$12) -> 0 | G39: =IF(I38<1,0,IF($E$14=3,$E$13,0)) -> 0 | H39: =IF(I38<1,0,IF((D39+E39+G39)-C39>=(I38),(I38),(D39+E39+G39)-C39)) -> 663.37401 | I39: =IF(I38-H39<1,0,I38-H39) -> 498017.3 | O39: =O38-($O$36-$O$48)/12 -> 497335.72 | Q39: =CJ31 -> 498017.3 | S39: =$C$37+C38+C39 -> 5617.5834 | U39: =SUM($CE$29:CE31) -> 5617.5834 | W39: =MONTHLYANALYSISWORKSHEET!P11 -> 162.5 | CC39: =SUM(CC38+1) -> 9 | CD39: =IF(CJ38<1,"",$CG$7) -> 0.045 | CE39: =IF(CJ38<1,"",(CJ38*(CD39*30)/360)) -> 1854.986 | CF39: =IF(CJ38<1,"",$CG$9) -> 2533.4265 | CG39: =IF(CJ38<1,"",$CG$12) -> 0 | CH39: =IF(CJ38<1,0,IF($CG$14=9,$CG$13,0)) -> 0 | CI39: =IF(CJ38<1,0,(CF39+CG39+CH39)-CE39) -> 678.44055 | CJ39: =IF(CJ38-CI39<1,0,CJ38-CI39) -> 493984.49 | CL39: =(CO38*($CL$35*13.85))/360 -> 864.23503 | CM39: =$D$37/2 -> 1266.7133 | CN39: =CM39-CL39 -> 402.47824 | CO39: =IF(CO38-CN39<0,0,CO38-CN39) -> 498794.65 | CP39: 3
A40: =IF(I39<1,"",A39+1) -> 4 | B40: =IF(I39<1,"",$E$7) -> 0.045 | C40: =IF(I39<1,0,(I39*(B40*30)/360)) -> 1867.5649 | D40: =IF(I39 > 1, IF(I39-D39<1,(I39+C40),$E$9), 0) -> 2533.4265 | E40: =IF(I39<1,"",$E$12) -> 0 | G40: =IF(I39<1,0,IF($E$14=4,$E$13,0)) -> 0 | H40: =IF(I39<1,0,IF((D40+E40+G40)-C40>=(I39),(I39),(D40+E40+G40)-C40)) -> 665.86166 | I40: =IF(I39-H40<1,0,I39-H40) -> 497351.44 | O40: =O39-($O$36-$O$48)/12 -> 496447.62 | Q40: =CJ34 -> 497351.44 | S40: =SUM($C$37:C40) -> 7485.1483 | U40: =SUM(CE29:CE34) -> 7485.1483 | W40: =MONTHLYANALYSISWORKSHEET!P12 -> 205.83333 | CC40: =SUM(CC39+1) -> 10 | CD40: =IF(CJ39<1,"",$CG$7) -> 0.045 | CE40: =IF(CJ39<1,"",(CJ39*(CD40*30)/360)) -> 1852.4418 | CF40: =IF(CJ39<1,"",$CG$9) -> 2533.4265 | CG40: =IF(CJ39<1,"",$CG$12) -> 0 | CH40: =IF(CJ39<1,0,IF($CG$14=10,$CG$13,0)) -> 0 | CI40: =IF(CJ39<1,0,(CF40+CG40+CH40)-CE40) -> 680.98471 | CJ40: =IF(CJ39-CI40<1,0,CJ39-CI40) -> 493303.51 | CL40: =(CO39*($CL$35*13.85))/360 -> 863.53824 | CM40: =$D$37/2 -> 1266.7133 | CN40: =CM40-CL40 -> 403.17504 | CO40: =IF(CO39-CN40<0,0,CO39-CN40) -> 498391.48 | CP40: 4
A41: =IF(I40<1,"",A40+1) -> 5 | B41: =IF(I40<1,"",$E$7) -> 0.045 | C41: =IF(I40<1,0,(I40*(B41*30)/360)) -> 1865.0679 | D41: =IF(I40 > 1, IF(I40-D40<1,(I40+C41),$E$9), 0) -> 2533.4265 | E41: =IF(I40<1,"",$E$12) -> 0 | G41: =IF(I40<1,0,IF($E$14=5,$E$13,0)) -> 0 | H41: =IF(I40<1,0,IF((D41+E41+G41)-C41>=(I40),(I40),(D41+E41+G41)-C41)) -> 668.35864 | I41: =IF(I40-H41<1,0,I40-H41) -> 496683.08 | O41: =O40-($O$36-$O$48)/12 -> 495559.53 | Q41: =CJ35 -> 496683.08 | S41: =SUM($C$37:C41) -> 9350.2162 | U41: =SUM(CE29:CE35) -> 9350.2162 | W41: =MONTHLYANALYSISWORKSHEET!P13 -> 243.75 | CC41: =SUM(CC40+1) -> 11 | CD41: =IF(CJ40<1,"",$CG$7) -> 0.045 | CE41: =IF(CJ40<1,"",(CJ40*(CD41*30)/360)) -> 1849.8881 | CF41: =IF(CJ40<1,"",$CG$9) -> 2533.4265 | CG41: =IF(CJ40<1,"",$CG$12) -> 0 | CH41: =IF(CJ40<1,0,IF($CG$14=11,$CG$13,0)) -> 0 | CI41: =IF(CJ40<1,0,(CF41+CG41+CH41)-CE41) -> 683.5384 | CJ41: =IF(CJ40-CI41<1,0,CJ40-CI41) -> 492619.97 | CL41: =(CO40*($CL$35*13.85))/360 -> 862.84024 | CM41: =$D$37/2 -> 1266.7133 | CN41: =CM41-CL41 -> 403.87303 | CO41: =IF(CO40-CN41<0,0,CO40-CN41) -> 497987.6 | CP41: 5
A42: =IF(I41<1,"",A41+1) -> 6 | B42: =IF(I41<1,"",$E$7) -> 0.045 | C42: =IF(I41<1,0,(I41*(B42*30)/360)) -> 1862.5616 | D42: =IF(I41 > 1, IF(I41-D41<1,(I41+C42),$E$9), 0) -> 2533.4265 | E42: =IF(I41<1,"",$E$12) -> 0 | G42: =IF(I41<1,0,IF($E$14=6,$E$13,0)) -> 0 | H42: =IF(I41<1,0,IF((D42+E42+G42)-C42>=(I41),(I41),(D42+E42+G42)-C42)) -> 670.86499 | I42: =IF(I41-H42<1,0,I41-H42) -> 496012.22 | O42: =O41-($O$36-$O$48)/12 -> 494671.44 | Q42: =CJ36 -> 496012.22 | S42: =SUM($C$37:C42) -> 11212.778 | U42: =SUM($CE$29:CE36) -> 11212.778 | W42: =MONTHLYANALYSISWORKSHEET!P14 -> 276.25 | CC42: =SUM(CC41+1) -> 12 | CD42: =IF(CJ41<1,"",$CG$7) -> 0.045 | CE42: =IF(CJ41<1,"",(CJ41*(CD42*30)/360)) -> 1847.3249 | CF42: =IF(CJ41<1,"",$CG$9) -> 2533.4265 | CG42: =IF(CJ41<1,"",$CG$12) -> 0 | CH42: =IF(CJ41<1,0,IF($CG$14=12,$CG$13,0)) -> 0 | CI42: =IF(CJ41<1,0,(CF42+CG42+CH42)-CE42) -> 686.10167 | CJ42: =IF(CJ41-CI42<1,0,CJ41-CI42) -> 491933.87 | CL42: =(CO41*($CL$35*13.85))/360 -> 862.14104 | CM42: =$D$37/2 -> 1266.7133 | CN42: =CM42-CL42 -> 404.57224 | CO42: =IF(CO41-CN42<0,0,CO41-CN42) -> 497583.03 | CP42: 6
A43: =IF(I42<1,"",A42+1) -> 7 | B43: =IF(I42<1,"",$E$7) -> 0.045 | C43: =IF(I42<1,0,(I42*(B43*30)/360)) -> 1860.0458 | D43: =IF(I42 > 1, IF(I42-D42<1,(I42+C43),$E$9), 0) -> 2533.4265 | E43: =IF(I42<1,"",$E$12) -> 0 | G43: =IF(I42<1,0,IF($E$14=7,$E$13,0)) -> 0 | H43: =IF(I42<1,0,IF((D43+E43+G43)-C43>=(I42),(I42),(D43+E43+G43)-C43)) -> 673.38073 | I43: =IF(I42-H43<1,0,I42-H43) -> 495338.84 | O43: =O42-($O$36-$O$48)/12 -> 493783.34 | Q43: =CJ37 -> 495338.84 | S43: =SUM($C$37:C43) -> 13072.824 | U43: =SUM($CE$29:CE37) -> 13072.824 | W43: =MONTHLYANALYSISWORKSHEET!P15 -> 303.33333 | CC43: =SUM(CC42+1) -> 13 | CD43: =IF(CJ42<1,"",$CG$7) -> 0.045 | CE43: =IF(CJ42<1,"",(CJ42*(CD43*30)/360)) -> 1844.752 | CF43: =IF(CJ42<1,"",$CG$9) -> 2533.4265 | CG43: =IF(CJ42<1,"",$CG$12) -> 0 | CH43: =IF(CJ42<1,0,CH29) -> 0 | CI43: =IF(CJ42<1,0,(CF43+CG43+CH43)-CE43) -> 688.67455 | CJ43: =IF(CJ42-CI43<1,0,CJ42-CI43) -> 491245.19 | CL43: =(CO42*($CL$35*13.85))/360 -> 861.44062 | CM43: =$D$37/2 -> 1266.7133 | CN43: =CM43-CL43 -> 405.27265 | CO43: =IF(CO42-CN43<0,0,CO42-CN43) -> 497177.76 | CP43: 7
A44: =IF(I43<1,"",A43+1) -> 8 | B44: =IF(I43<1,"",$E$7) -> 0.045 | C44: =IF(I43<1,0,(I43*(B44*30)/360)) -> 1857.5206 | D44: =IF(I43 > 1, IF(I43-D43<1,(I43+C44),$E$9), 0) -> 2533.4265 | E44: =IF(I43<1,"",$E$12) -> 0 | G44: =IF(I43<1,0,IF($E$14=8,$E$13,0)) -> 0 | H44: =IF(I43<1,0,IF((D44+E44+G44)-C44>=(I43),(I43),(D44+E44+G44)-C44)) -> 675.90591 | I44: =IF(I43-H44<1,0,I43-H44) -> 494662.93 | O44: =O43-($O$36-$O$48)/12 -> 492895.25 | Q44: =CJ38 -> 494662.93 | S44: =SUM($C$37:C44) -> 14930.344 | U44: =SUM($CE$29:CE38) -> 14930.344 | W44: =MONTHLYANALYSISWORKSHEET!P16 -> 325 | CC44: =SUM(CC43+1) -> 14 | CD44: =IF(CJ43<1,"",$CG$7) -> 0.045 | CE44: =IF(CJ43<1,"",(CJ43*(CD44*30)/360)) -> 1842.1695 | CF44: =IF(CJ43<1,"",$CG$9) -> 2533.4265 | CG44: =IF(CJ43<1,"",$CG$12) -> 0 | CH44: =IF(CJ43<1,0,CH30) -> 0 | CI44: =IF(CJ43<1,0,(CF44+CG44+CH44)-CE44) -> 691.25708 | CJ44: =IF(CJ43-CI44<1,0,CJ43-CI44) -> 490553.93 | CL44: =(CO43*($CL$35*13.85))/360 -> 860.73899 | CM44: =$D$37/2 -> 1266.7133 | CN44: =CM44-CL44 -> 405.97428 | CO44: =IF(CO43-CN44<0,0,CO43-CN44) -> 496771.78 | CP44: 8
A45: =IF(I44<1,"",A44+1) -> 9 | B45: =IF(I44<1,"",$E$7) -> 0.045 | C45: =IF(I44<1,0,(I44*(B45*30)/360)) -> 1854.986 | D45: =IF(I44 > 1, IF(I44-D44<1,(I44+C45),$E$9), 0) -> 2533.4265 | E45: =IF(I44<1,"",$E$12) -> 0 | G45: =IF(I44<1,0,IF($E$14=9,$E$13,0)) -> 0 | H45: =IF(I44<1,0,IF((D45+E45+G45)-C45>=(I44),(I44),(D45+E45+G45)-C45)) -> 678.44055 | I45: =IF(I44-H45<1,0,I44-H45) -> 493984.49 | O45: =O44-($O$36-$O$48)/12 -> 492007.15 | Q45: =CJ39 -> 493984.49 | S45: =SUM($C$37:C45) -> 16785.33 | U45: =SUM($CE$29:CE39) -> 16785.33 | W45: =MONTHLYANALYSISWORKSHEET!P17 -> 341.25 | CC45: =SUM(CC44+1) -> 15 | CD45: =IF(CJ44<1,"",$CG$7) -> 0.045 | CE45: =IF(CJ44<1,"",(CJ44*(CD45*30)/360)) -> 1839.5773 | CF45: =IF(CJ44<1,"",$CG$9) -> 2533.4265 | CG45: =IF(CJ44<1,"",$CG$12) -> 0 | CH45: =IF(CJ44<1,0,CH31) -> 0 | CI45: =IF(CJ44<1,0,(CF45+CG45+CH45)-CE45) -> 693.84929 | CJ45: =IF(CJ44-CI45<1,0,CJ44-CI45) -> 489860.09 | CL45: =(CO44*($CL$35*13.85))/360 -> 860.03615 | CM45: =$D$37/2 -> 1266.7133 | CN45: =CM45-CL45 -> 406.67712 | CO45: =IF(CO44-CN45<0,0,CO44-CN45) -> 496365.11 | CP45: 9
...

Sheet MONTHLYANALYSISWORKSHEET
C2: CASH FLOW MAXIMIZER TRACKING WORKSHEET
F4: Monthly | G4: Total Of
C5: Beginning | D5: LOC | E5: Monthly | F5: Mortgage | G5: Other Monthly | H5: Ending | I5: CFM | K5: Bi-Weekly | M5: Conventional | P5: LOC
C6: LOC | D6: Transfer To | E6: Deposits | F6: Payment | G6: Bills Paid | H6: LOC | I6: Mortgage | K6: Mortgage | M6: Mortgage | P6: COST
A7: Period | B7: Date | C7: Balance | D7: Mortgage | E7: To LOC | F7: From LOC | G7: From LOC | H7: Balance | I7: Balance | K7: Balance | M7: Balance | P7: @
I8: =CFM!E6 -> 500000 | K8: =CFM!E6 -> 500000 | M8: =CFM!E6 -> 500000 | O8: =P8 -> 6.5 | P8: 6.5
A9: 1 | B9: 40360 | C9: 25000 | D9: 12000 | E9: 8000 | F9: 2000.5 | G9: 4999.5 | H9: =IF(C9-D9+E9-F9-G9>$C$9,$C$9,C9-D9+E9-F9-G9) -> 14000 | I9: =CFM!I37 -> 499341.57 | K9: =CFM!O37 -> 499111.91 | M9: =CFM!CJ29 -> 499341.57 | O9: =IF($C$9<H9,0,($C$9-H9)*($O$8*0.01)*30)/360 -> 59.583333 | P9: =O9 -> 59.583333
A10: =A9+1 -> 2 | B10: 40391 | C10: =H9 -> 14000 | E10: 8000 | F10: 2000.5 | G10: 4999.5 | H10: =IF(C10-D10+E10-F10-G10>$C$9,$C$9,C10-D10+E10-F10-G10) -> 15000 | I10: =CFM!I38 -> 498680.68 | K10: =CFM!O38 -> 498223.81 | M10: =CFM!CJ30 -> 498680.68 | O10: =IF($C$9<H10,0,($C$9-H10)*($O$8*0.01)*30)/360 -> 54.166667 | P10: =IF(E10="","",SUM($O$9:O10)) -> 113.75
A11: =A10+1 -> 3 | B11: 40422 | C11: =H10 -> 15000 | E11: 8000 | F11: 2000.5 | G11: 4999.5 | H11: =IF(C11-D11+E11-F11-G11>$C$9,$C$9,C11-D11+E11-F11-G11) -> 16000 | I11: =CFM!I39 -> 498017.3 | K11: =CFM!O39 -> 497335.72 | M11: =CFM!CJ31 -> 498017.3 | O11: =IF($C$9<H11,0,($C$9-H11)*($O$8*0.01)*30)/360 -> 48.75 | P11: =IF(E11="","",SUM($O$9:O11)) -> 162.5
A12: =A11+1 -> 4 | B12: 40452 | C12: =H11 -> 16000 | E12: 8000 | F12: 2000.5 | G12: 4999.5 | H12: =IF(C12-D12+E12-F12-G12>$C$9,$C$9,C12-D12+E12-F12-G12) -> 17000 | I12: =CFM!I40 -> 497351.44 | K12: =CFM!O40 -> 496447.62 | M12: =CFM!CJ34 -> 497351.44 | O12: =IF($C$9<H12,0,($C$9-H12)*($O$8*0.01)*30)/360 -> 43.333333 | P12: =IF(E12="","",SUM($O$9:O12)) -> 205.83333
A13: =A12+1 -> 5 | B13: 40483 | C13: =H12 -> 17000 | E13: 8000 | F13: 2000.5 | G13: 4999.5 | H13: =IF(C13-D13+E13-F13-G13>$C$9,$C$9,C13-D13+E13-F13-G13) -> 18000 | I13: =CFM!I41 -> 496683.08 | K13: =CFM!O41 -> 495559.53 | M13: =CFM!CJ35 -> 496683.08 | O13: =IF($C$9<H13,0,($C$9-H13)*($O$8*0.01)*30)/360 -> 37.916667 | P13: =IF(E13="","",SUM($O$9:O13)) -> 243.75
A14: =A13+1 -> 6 | B14: 40513 | C14: =H13 -> 18000 | E14: 8000 | F14: 2000.5 | G14: 4999.5 | H14: =IF(C14-D14+E14-F14-G14>$C$9,$C$9,C14-D14+E14-F14-G14) -> 19000 | I14: =CFM!I42 -> 496012.22 | K14: =CFM!O42 -> 494671.44 | M14: =CFM!CJ36 -> 496012.22 | O14: =IF($C$9<H14,0,($C$9-H14)*($O$8*0.01)*30)/360 -> 32.5 | P14: =IF(E14="","",SUM($O$9:O14)) -> 276.25
A15: =A14+1 -> 7 | B15: 40544 | C15: =H14 -> 19000 | E15: 8000 | F15: 2000.5 | G15: 4999.5 | H15: =IF(C15-D15+E15-F15-G15>$C$9,$C$9,C15-D15+E15-F15-G15) -> 20000 | I15: =CFM!I43 -> 495338.84 | K15: =CFM!O43 -> 493783.34 | M15: =CFM!CJ37 -> 495338.84 | O15: =IF($C$9<H15,0,($C$9-H15)*($O$8*0.01)*30)/360 -> 27.083333 | P15: =IF(E15="","",SUM($O$9:O15)) -> 303.33333
A16: =A15+1 -> 8 | B16: 40575 | C16: =H15 -> 20000 | E16: 8000 | F16: 2000.5 | G16: 4999.5 | H16: =IF(C16-D16+E16-F16-G16>$C$9,$C$9,C16-D16+E16-F16-G16) -> 21000 | I16: =CFM!I44 -> 494662.93 | K16: =CFM!O44 -> 492895.25 | M16: =CFM!CJ38 -> 494662.93 | O16: =IF($C$9<H16,0,($C$9-H16)*($O$8*0.01)*30)/360 -> 21.666667 | P16: =IF(E16="","",SUM($O$9:O16)) -> 325
A17: =A16+1 -> 9 | B17: 40603 | C17: =H16 -> 21000 | E17: 8000 | F17: 2000.5 | G17: 4999.5 | H17: =IF(C17-D17+E17-F17-G17>$C$9,$C$9,C17-D17+E17-F17-G17) -> 22000 | I17: =CFM!I45 -> 493984.49 | K17: =CFM!O45 -> 492007.15 | M17: =CFM!CJ39 -> 493984.49 | O17: =IF($C$9<H17,0,($C$9-H17)*($O$8*0.01)*30)/360 -> 16.25 | P17: =IF(E17="","",SUM($O$9:O17)) -> 341.25
A18: =A17+1 -> 10 | B18: 40634 | C18: =H17 -> 22000 | E18: 8000 | F18: 2000.5 | G18: 4999.5 | H18: =IF(C18-D18+E18-F18-G18>$C$9,$C$9,C18-D18+E18-F18-G18) -> 23000 | I18: =CFM!I46 -> 493303.51 | K18: =CFM!O46 -> 491119.06 | M18: =CFM!CJ40 -> 493303.51 | O18: =IF($C$9<H18,0,($C$9-H18)*($O$8*0.01)*30)/360 -> 10.833333 | P18: =IF(E18="","",SUM($O$9:O18)) -> 352.08333
A19: =A18+1 -> 11 | B19: 40664 | C19: =H18 -> 23000 | E19: 8000 | F19: 2000.5 | G19: 4999.5 | H19: =IF(C19-D19+E19-F19-G19>$C$9,$C$9,C19-D19+E19-F19-G19) -> 24000 | I19: =CFM!I47 -> 492619.97 | K19: =CFM!O47 -> 490230.97 | M19: =CFM!CJ41 -> 492619.97 | O19: =IF($C$9<H19,0,($C$9-H19)*($O$8*0.01)*30)/360 -> 5.4166667 | P19: =IF(E19="","",SUM($O$9:O19)) -> 357.5
A20: =A19+1 -> 12 | B20: 40695 | C20: =H19 -> 24000 | E20: 8000 | F20: 2000.5 | G20: 4999.5 | H20: =IF(C20-D20+E20-F20-G20>$C$9,$C$9,C20-D20+E20-F20-G20) -> 25000 | I20: =CFM!I48 -> 491933.87 | K20: =CFM!O48 -> 489342.87 | M20: =CFM!CJ42 -> 491933.87 | O20: =IF($C$9<H20,0,($C$9-H20)*($O$8*0.01)*30)/360 -> 0 | P20: =IF(E20="","",SUM($O$9:O20)) -> 357.5
A21: =A20+1 -> 13 | B21: 40725 | C21: =H20 -> 25000 | D21: 12000 | E21: 8000 | F21: 2000.5 | G21: 4999.5 | H21: =IF(C21-D21+E21-F21-G21>$C$9,$C$9,C21-D21+E21-F21-G21) -> 14000 | I21: =CFM!I49 -> 491245.19 | K21: =CFM!O49 -> 488413.93 | M21: =CFM!CJ43 -> 491245.19 | O21: =IF($C$9<H21,0,($C$9-H21)*($O$8*0.01)*30)/360 -> 59.583333 | P21: =IF(E21="","",SUM($O$9:O21)) -> 417.08333
A22: =A21+1 -> 14 | B22: 40756 | C22: =H21 -> 14000 | E22: 8000 | F22: 2000.5 | G22: 4999.5 | H22: =IF(C22-D22+E22-F22-G22>$C$9,$C$9,C22-D22+E22-F22-G22) -> 15000 | I22: =CFM!I50 -> 490553.93 | K22: =CFM!O50 -> 487484.98 | M22: =CFM!CJ44 -> 490553.93 | O22: =IF($C$9<H22,0,($C$9-H22)*($O$8*0.01)*30)/360 -> 54.166667 | P22: =IF(E22="","",SUM($O$9:O22)) -> 471.25
A23: =A22+1 -> 15 | B23: 40787 | C23: =H22 -> 15000 | E23: 8000 | F23: 2000.5 | G23: 4999.5 | H23: =IF(C23-D23+E23-F23-G23>$C$9,$C$9,C23-D23+E23-F23-G23) -> 16000 | I23: =CFM!I51 -> 489860.09 | K23: =CFM!O51 -> 486556.03 | M23: =CFM!CJ45 -> 489860.09 | O23: =IF($C$9<H23,0,($C$9-H23)*($O$8*0.01)*30)/360 -> 48.75 | P23: =IF(E23="","",SUM($O$9:O23)) -> 520
A24: =A23+1 -> 16 | B24: 40817 | C24: =H23 -> 16000 | E24: 8000 | F24: 2000.5 | G24: 4999.5 | H24: =IF(C24-D24+E24-F24-G24>$C$9,$C$9,C24-D24+E24-F24-G24) -> 17000 | I24: =CFM!I52 -> 489163.63 | K24: =CFM!O52 -> 485627.09 | M24: =CFM!CJ46 -> 489163.63 | O24: =IF($C$9<H24,0,($C$9-H24)*($O$8*0.01)*30)/360 -> 43.333333 | P24: =IF(E24="","",SUM($O$9:O24)) -> 563.33333
A25: =A24+1 -> 17 | B25: 40848 | C25: =H24 -> 17000 | E25: 8000 | F25: 2000.5 | G25: 4999.5 | H25: =IF(C25-D25+E25-F25-G25>$C$9,$C$9,C25-D25+E25-F25-G25) -> 18000 | I25: =CFM!I53 -> 488464.57 | K25: =CFM!O53 -> 484698.14 | M25: =CFM!CJ47 -> 488464.57 | O25: =IF($C$9<H25,0,($C$9-H25)*($O$8*0.01)*30)/360 -> 37.916667 | P25: =IF(E25="","",SUM($O$9:O25)) -> 601.25
A26: =A25+1 -> 18 | B26: 40878 | C26: =H25 -> 18000 | E26: 8000 | F26: 2000.5 | G26: 4999.5 | H26: =IF(C26-D26+E26-F26-G26>$C$9,$C$9,C26-D26+E26-F26-G26) -> 19000 | I26: =CFM!I54 -> 487762.89 | K26: =CFM!O54 -> 483769.19 | M26: =CFM!CJ48 -> 487762.89 | O26: =IF($C$9<H26,0,($C$9-H26)*($O$8*0.01)*30)/360 -> 32.5 | P26: =IF(E26="","",SUM($O$9:O26)) -> 633.75
A27: =A26+1 -> 19 | B27: 40909 | C27: =H26 -> 19000 | E27: 8000 | F27: 2000.5 | G27: 4999.5 | H27: =IF(C27-D27+E27-F27-G27>$C$9,$C$9,C27-D27+E27-F27-G27) -> 20000 | I27: =CFM!I55 -> 487058.57 | K27: =CFM!O55 -> 482840.25 | M27: =CFM!CJ49 -> 487058.57 | O27: =IF($C$9<H27,0,($C$9-H27)*($O$8*0.01)*30)/360 -> 27.083333 | P27: =IF(E27="","",SUM($O$9:O27)) -> 660.83333
A28: =A27+1 -> 20 | B28: 40940 | C28: =H27 -> 20000 | E28: 8000 | F28: 2000.5 | G28: 4999.5 | H28: =IF(C28-D28+E28-F28-G28>$C$9,$C$9,C28-D28+E28-F28-G28) -> 21000 | I28: =CFM!I56 -> 486351.61 | K28: =CFM!O56 -> 481911.3 | M28: =CFM!CJ50 -> 486351.61 | O28: =IF($C$9<H28,0,($C$9-H28)*($O$8*0.01)*30)/360 -> 21.666667 | P28: =IF(E28="","",SUM($O$9:O28)) -> 682.5
A29: =A28+1 -> 21 | B29: 40969 | C29: =H28 -> 21000 | E29: 8000 | F29: 2000.5 | G29: 4999.5 | H29: =IF(C29-D29+E29-F29-G29>$C$9,$C$9,C29-D29+E29-F29-G29) -> 22000 | I29: =CFM!I57 -> 485642.01 | K29: =CFM!O57 -> 480982.36 | M29: =CFM!CJ51 -> 485642.01 | O29: =IF($C$9<H29,0,($C$9-H29)*($O$8*0.01)*30)/360 -> 16.25 | P29: =IF(E29="","",SUM($O$9:O29)) -> 698.75
A30: =A29+1 -> 22 | B30: 41000 | C30: =H29 -> 22000 | E30: 8000 | F30: 2000.5 | G30: 4999.5 | H30: =IF(C30-D30+E30-F30-G30>$C$9,$C$9,C30-D30+E30-F30-G30) -> 23000 | I30: =CFM!I58 -> 484929.74 | K30: =CFM!O58 -> 480053.41 | M30: =CFM!CJ52 -> 484929.74 | O30: =IF($C$9<H30,0,($C$9-H30)*($O$8*0.01)*30)/360 -> 10.833333 | P30: =IF(E30="","",SUM($O$9:O30)) -> 709.58333
A31: =A30+1 -> 23 | B31: 41030 | C31: =H30 -> 23000 | E31: 8000 | F31: 2000.5 | G31: 4999.5 | H31: =IF(C31-D31+E31-F31-G31>$C$9,$C$9,C31-D31+E31-F31-G31) -> 24000 | I31: =CFM!I59 -> 484214.8 | K31: =CFM!O59 -> 479124.46 | M31: =CFM!CJ53 -> 484214.8 | O31: =IF($C$9<H31,0,($C$9-H31)*($O$8*0.01)*30)/360 -> 5.4166667 | P31: =IF(E31="","",SUM($O$9:O31)) -> 715
A32: =A31+1 -> 24 | B32: 41061 | C32: =H31 -> 24000 | E32: 8000 | F32: 2000.5 | G32: 4999.5 | H32: =IF(C32-D32+E32-F32-G32>$C$9,$C$9,C32-D32+E32-F32-G32) -> 25000 | I32: =CFM!I60 -> 483497.18 | K32: =CFM!O60 -> 478195.52 | M32: =CFM!CJ54 -> 483497.18 | O32: =IF($C$9<H32,0,($C$9-H32)*($O$8*0.01)*30)/360 -> 0 | P32: =IF(E32="","",SUM($O$9:O32)) -> 715
A33: =A32+1 -> 25 | B33: 41091 | C33: =H32 -> 25000 | D33: 12000 | E33: 8000 | F33: 2000.5 | G33: 4999.5 | H33: =IF(C33-D33+E33-F33-G33>$C$9,$C$9,C33-D33+E33-F33-G33) -> 14000 | I33: =CFM!I61 -> 482776.86 | K33: =CFM!O61 -> 477223.84 | M33: =CFM!CJ55 -> 482776.86 | O33: =IF($C$9<H33,0,($C$9-H33)*($O$8*0.01)*30)/360 -> 59.583333 | P33: =IF(E33="","",SUM($O$9:O33)) -> 774.58333
A34: =A33+1 -> 26 | B34: 41122 | C34: =H33 -> 14000 | E34: 8000 | F34: 2000.5 | G34: 4999.5 | H34: =IF(C34-D34+E34-F34-G34>$C$9,$C$9,C34-D34+E34-F34-G34) -> 15000 | I34: =CFM!I62 -> 482053.85 | K34: =CFM!O62 -> 476252.16 | M34: =CFM!CJ56 -> 482053.85 | O34: =IF($C$9<H34,0,($C$9-H34)*($O$8*0.01)*30)/360 -> 54.166667 | P34: =IF(E34="","",SUM($O$9:O34)) -> 828.75
A35: =A34+1 -> 27 | B35: 41153 | C35: =H34 -> 15000 | E35: 8000 | F35: 2000.5 | G35: 4999.5 | H35: =IF(C35-D35+E35-F35-G35>$C$9,$C$9,C35-D35+E35-F35-G35) -> 16000 | I35: =CFM!I63 -> 481328.13 | K35: =CFM!O63 -> 475280.48 | M35: =CFM!CJ57 -> 481328.13 | O35: =IF($C$9<H35,0,($C$9-H35)*($O$8*0.01)*30)/360 -> 48.75 | P35: =IF(E35="","",SUM($O$9:O35)) -> 877.5
A36: =A35+1 -> 28 | B36: 41183 | C36: =H35 -> 16000 | E36: 8000 | F36: 2000.5 | G36: 4999.5 | H36: =IF(C36-D36+E36-F36-G36>$C$9,$C$9,C36-D36+E36-F36-G36) -> 17000 | I36: =CFM!I64 -> 480599.68 | K36: =CFM!O64 -> 474308.8 | M36: =CFM!CJ58 -> 480599.68 | O36: =IF($C$9<H36,0,($C$9-H36)*($O$8*0.01)*30)/360 -> 43.333333 | P36: =IF(E36="","",SUM($O$9:O36)) -> 920.83333
A37: =A36+1 -> 29 | B37: 41214 | C37: =H36 -> 17000 | E37: 8000 | F37: 2000.5 | G37: 4999.5 | H37: =IF(C37-D37+E37-F37-G37>$C$9,$C$9,C37-D37+E37-F37-G37) -> 18000 | I37: =CFM!I65 -> 479868.5 | K37: =CFM!O65 -> 473337.13 | M37: =CFM!CJ59 -> 479868.5 | O37: =IF($C$9<H37,0,($C$9-H37)*($O$8*0.01)*30)/360 -> 37.916667 | P37: =IF(E37="","",SUM($O$9:O37)) -> 958.75
A38: =A37+1 -> 30 | B38: 41244 | C38: =H37 -> 18000 | E38: 8000 | F38: 2000.5 | G38: 4999.5 | H38: =IF(C38-D38+E38-F38-G38>$C$9,$C$9,C38-D38+E38-F38-G38) -> 19000 | I38: =CFM!I66 -> 479134.58 | K38: =CFM!O66 -> 472365.45 | M38: =CFM!CJ60 -> 479134.58 | O38: =IF($C$9<H38,0,($C$9-H38)*($O$8*0.01)*30)/360 -> 32.5 | P38: =IF(E38="","",SUM($O$9:O38)) -> 991.25
A39: =A38+1 -> 31 | B39: 41275 | C39: =H38 -> 19000 | E39: 8000 | F39: 2000.5 | G39: 4999.5 | H39: =IF(C39-D39+E39-F39-G39>$C$9,$C$9,C39-D39+E39-F39-G39) -> 20000 | I39: =CFM!I67 -> 478397.91 | K39: =CFM!O67 -> 471393.77 | M39: =CFM!CJ61 -> 478397.91 | O39: =IF($C$9<H39,0,($C$9-H39)*($O$8*0.01)*30)/360 -> 27.083333 | P39: =IF(E39="","",SUM($O$9:O39)) -> 1018.3333
A40: =A39+1 -> 32 | B40: 41306 | C40: =H39 -> 20000 | E40: 8000 | F40: 2000.5 | G40: 4999.5 | H40: =IF(C40-D40+E40-F40-G40>$C$9,$C$9,C40-D40+E40-F40-G40) -> 21000 | I40: =CFM!I68 -> 477658.48 | K40: =CFM!O68 -> 470422.09 | M40: =CFM!CJ62 -> 477658.48 | O40: =IF($C$9<H40,0,($C$9-H40)*($O$8*0.01)*30)/360 -> 21.666667 | P40: =IF(E40="","",SUM($O$9:O40)) -> 1040
A41: =A40+1 -> 33 | B41: 41334 | C41: =H40 -> 21000 | E41: 8000 | F41: 2000.5 | G41: 4999.5 | H41: =IF(C41-D41+E41-F41-G41>$C$9,$C$9,C41-D41+E41-F41-G41) -> 22000 | I41: =CFM!I69 -> 476916.27 | K41: =CFM!O69 -> 469450.41 | M41: =CFM!CJ63 -> 476916.27 | O41: =IF($C$9<H41,0,($C$9-H41)*($O$8*0.01)*30)/360 -> 16.25 | P41: =IF(E41="","",SUM($O$9:O41)) -> 1056.25
A42: =A41+1 -> 34 | B42: 41365 | C42: =H41 -> 22000 | E42: 8000 | F42: 2000.5 | G42: 4999.5 | H42: =IF(C42-D42+E42-F42-G42>$C$9,$C$9,C42-D42+E42-F42-G42) -> 23000 | I42: =CFM!I70 -> 476171.28 | K42: =CFM!O70 -> 468478.73 | M42: =CFM!CJ64 -> 476171.28 | O42: =IF($C$9<H42,0,($C$9-H42)*($O$8*0.01)*30)/360 -> 10.833333 | P42: =IF(E42="","",SUM($O$9:O42)) -> 1067.0833
...
